BEGIN:VCALENDAR
VERSION:2.0
PRODID:-//eventon.com NONSGML v1.0//EN
CALSCALE:GREGORIAN
METHOD:PUBLISH
BEGIN:VEVENT
UID:69e606720ab00
DTSTAMP:20260420T105650Z
DTSTART:20251115T080000Z
DTEND:20251115T160000Z
LOCATION:Békés Vármegyei Központi Kórház Pándy Kálmán Tagkórház Szakrendelőjének épülete 5700 Gyula\,  Dob u. 3.
SUMMARY:Aktív Staféta gyulai állomás
DESCRIPTION:Az Aktív Staféta 2025. november 15-én Gyulára érkezik! A 2
 025 januárjában indított\,  a Magyar Egészségügyi Menedzsment Társas
 ág által szervezett népegészségügyi programsorozat harmadik őszi ál
 lomása Gyula lesz\,  ahol ingyenesen igénybe vehető életmódtanácsadá
 ssal\,  egészségügyi szűrésekkel\,  edukációs és mozgásprogramokka
 l várják a szakemberek az érdeklődőket. A Staféta gyulai állomásán
  az alábbi szűrőprogramokat és interaktív[..]\nhttps://memt.hu/rendezv
 eny/aktiv-stafeta-gyulai-allomas/
URL:https://memt.hu/rendezveny/aktiv-stafeta-gyulai-allomas/
END:VEVENT
END:VCALENDAR