BEGIN:VCALENDAR
VERSION:2.0
PRODID:-//eventon.com NONSGML v1.0//EN
CALSCALE:GREGORIAN
METHOD:PUBLISH
BEGIN:VEVENT
UID:69e9856f123fd
DTSTAMP:20260423T023527Z
DTSTART:20230621
DTEND:20230622
LOCATION:Radisson Blu BÃ©ke Hotel TerÃ©z krt. 43.
SUMMARY:XVII. IME EgÃ©szsÃ©gpolitika Ã©s egÃ©szsÃ©gÃ¼gyi rendszerek Konferencia
DESCRIPTION:EgÃ©szsÃ©gpolitika Ã©s egÃ©szsÃ©gÃ¼gyi rendszerek konferencia Ã
 šj tÃ­pusÃº dÃ¶ntÃ©sek\,  mechanizmusok az egÃ©szsÃ©gÃ¼gyi irÃ¡nyÃ­tÃ¡sban 
 2023. jÃºnius 21. A konferencia helyszÃ­ne: Radisson Blu BÃ©ke HotelÂ (1067
  Budapest\,  TerÃ©z krt. 43.). KonferenciÃ¡nkat a Magyar EgÃ©szsÃ©gÃ¼gyi Me
 nedzsment TÃ¡rsasÃ¡ggal\,  az EgÃ©szsÃ©gÃ¼gyi MenedzserkÃ©pzÅ‘ KÃ¶zpont sza
 kmai tÃ¡mogatÃ¡sÃ¡val szervezzÃ¼k. Folytatva az IME egÃ©szsÃ©ggazdasÃ¡gtani
  konferenciÃ¡k sorÃ¡t\,  megÃºjult tartalommal idÃ©n XVII. alkalommal[..]\n
 https://memt.hu/rendezveny/ime-egeszsegpolitika-es-egeszsegugyi-rendszerek-
 konferencia-2023/
URL:https://memt.hu/rendezveny/ime-egeszsegpolitika-es-egeszsegugyi-rendszerek-konferencia-2023/
END:VEVENT
END:VCALENDAR