BEGIN:VCALENDAR
VERSION:2.0
PRODID:-//eventon.com NONSGML v1.0//EN
CALSCALE:GREGORIAN
METHOD:PUBLISH
BEGIN:VEVENT
UID:69e5eead68756
DTSTAMP:20260420T091525Z
DTSTART:20240612
DTEND:20240613
LOCATION:Crowne Plaza Budapest Westend Váci út 1-3.
SUMMARY:XVIII. IME Egészségpolitika és egészségügyi rendszerek Konferencia
DESCRIPTION:I. SZEKCIÓ – EGÉSZSÉGPOLITIKA 9.05 – 9.20 Államháztart
 ási kérdések Dr. Banai Péter Benő\,  államháztartásért felelős á
 llamtitkár\,  Pénzügyminisztérium 9.20 – 10.00 Aktualitások\,  a kö
 vetkező két év stratégiája Dr. Bidló Judit\,  egészségügy szakmai 
 irányításáért felelős helyettes államtitkár\,  Belügyminisztérium
  10.00 – 10.20 Finanszírozási premisszák Kiss Zsolt\,  főigazgató\, 
  NEAK 10.20 – 10.40 Látlelet az[..]\nhttps://memt.hu/rendezveny/xviii-im
 e-egeszsegpolitika-es-egeszsegugyi-rendszerek-konferencia/
URL:https://memt.hu/rendezveny/xviii-ime-egeszsegpolitika-es-egeszsegugyi-rendszerek-konferencia/
END:VEVENT
END:VCALENDAR